BEGIN:VCALENDAR
VERSION:2.0
PRODID:-//l&#039;instant présent - ECPv6.15.11//NONSGML v1.0//EN
CALSCALE:GREGORIAN
METHOD:PUBLISH
X-WR-CALNAME:l&#039;instant présent
X-ORIGINAL-URL:https://www.lenectarduyoga.fr
X-WR-CALDESC:Évènements pour l&#039;instant présent
REFRESH-INTERVAL;VALUE=DURATION:PT1H
X-Robots-Tag:noindex
X-PUBLISHED-TTL:PT1H
BEGIN:VTIMEZONE
TZID:Europe/Paris
BEGIN:DAYLIGHT
TZOFFSETFROM:+0100
TZOFFSETTO:+0200
TZNAME:CEST
DTSTART:20250330T010000
END:DAYLIGHT
BEGIN:STANDARD
TZOFFSETFROM:+0200
TZOFFSETTO:+0100
TZNAME:CET
DTSTART:20251026T010000
END:STANDARD
BEGIN:DAYLIGHT
TZOFFSETFROM:+0100
TZOFFSETTO:+0200
TZNAME:CEST
DTSTART:20260329T010000
END:DAYLIGHT
BEGIN:STANDARD
TZOFFSETFROM:+0200
TZOFFSETTO:+0100
TZNAME:CET
DTSTART:20261025T010000
END:STANDARD
BEGIN:DAYLIGHT
TZOFFSETFROM:+0100
TZOFFSETTO:+0200
TZNAME:CEST
DTSTART:20270328T010000
END:DAYLIGHT
BEGIN:STANDARD
TZOFFSETFROM:+0200
TZOFFSETTO:+0100
TZNAME:CET
DTSTART:20271031T010000
END:STANDARD
END:VTIMEZONE
BEGIN:VEVENT
DTSTART;TZID=Europe/Paris:20260123T140000
DTEND;TZID=Europe/Paris:20260125T220000
DTSTAMP:20260421T070147
CREATED:20250924T164718Z
LAST-MODIFIED:20250924T165321Z
UID:653-1769176800-1769378400@www.lenectarduyoga.fr
SUMMARY:WE Tantra Blanc en janvier 2026
DESCRIPTION:WE Tantra Blanc en janvier 2026\, du 24 au 25 janvier à Blois\n\n\n\n\nJe vous propose de venir vivre une sacrée expérience le temps d’un WE Tantra Blanc en janvier 2026\, avec moi-même ainsi que d’autres pratiquants et professeurs de Kundalini Yoga venus des 4 coins de la France. \n\n\n\nVous pratiquerez le Kundalini Yoga mais pas seulement\, vous découvrirez le Tantra Blanc\, point fort de ce week-end. \n\n\n\n \n\n\n\n\nJe vous propose de partir ensemble en mini-bus. Pour que vous profitiez au maximum de cette expérience et créer un cadre propice et une belle ambiance entre vous. \n\n\n\nContactez-moi au plus tôt pour réserver votre place ! Chaleureusement\, Eric \n\n\n\n\n\n\n\n\n\nAccédez aux autres évènements proposés par l’association L’instant présent ici
URL:https://www.lenectarduyoga.fr/event/we-tantra-blanc-en-janvier-2026/
LOCATION:La Gendronnière\, La Gendronnière\, Valaire\, 41120\, France
CATEGORIES:stage,Yoga kundalini
ATTACH;FMTTYPE=image/png:https://www.lenectarduyoga.fr/wp-content/uploads/2025/09/Stage-Kundalini-Yoga-Tantra-Blanc-Gendronniere-Valaire.png
END:VEVENT
END:VCALENDAR