BEGIN:VCALENDAR
VERSION:2.0
PRODID:-//l&#039;instant présent - ECPv6.15.11//NONSGML v1.0//EN
CALSCALE:GREGORIAN
METHOD:PUBLISH
X-ORIGINAL-URL:https://www.lenectarduyoga.fr
X-WR-CALDESC:Évènements pour l&#039;instant présent
REFRESH-INTERVAL;VALUE=DURATION:PT1H
X-Robots-Tag:noindex
X-PUBLISHED-TTL:PT1H
BEGIN:VTIMEZONE
TZID:Europe/Paris
BEGIN:DAYLIGHT
TZOFFSETFROM:+0100
TZOFFSETTO:+0200
TZNAME:CEST
DTSTART:20250330T010000
END:DAYLIGHT
BEGIN:STANDARD
TZOFFSETFROM:+0200
TZOFFSETTO:+0100
TZNAME:CET
DTSTART:20251026T010000
END:STANDARD
BEGIN:DAYLIGHT
TZOFFSETFROM:+0100
TZOFFSETTO:+0200
TZNAME:CEST
DTSTART:20260329T010000
END:DAYLIGHT
BEGIN:STANDARD
TZOFFSETFROM:+0200
TZOFFSETTO:+0100
TZNAME:CET
DTSTART:20261025T010000
END:STANDARD
BEGIN:DAYLIGHT
TZOFFSETFROM:+0100
TZOFFSETTO:+0200
TZNAME:CEST
DTSTART:20270328T010000
END:DAYLIGHT
BEGIN:STANDARD
TZOFFSETFROM:+0200
TZOFFSETTO:+0100
TZNAME:CET
DTSTART:20271031T010000
END:STANDARD
END:VTIMEZONE
BEGIN:VEVENT
DTSTART;TZID=Europe/Paris:20260301T090000
DTEND;TZID=Europe/Paris:20260301T123000
DTSTAMP:20260421T072158
CREATED:20260217T171726Z
LAST-MODIFIED:20260217T174855Z
UID:682-1772355600-1772368200@www.lenectarduyoga.fr
SUMMARY:Matinée Kundalini Yoga mars 2026
DESCRIPTION:Cette matinée Kundalini Yoga mars 2026 est ouverte à Tous. Une matinée pour Soi\, un temps de partage et d’échange appuyé sur la puissance de transformation du Kundalini Yoga et des Gongs. Nous cheminerons avec la puissance du mantra « Ong Sohung ». Il est dédié pour apporter la paix dans le monde en reconnaissant le lien inné entre les individus et le divin. Appuyé par des kriyas spécifiques\, nous pratiquerons ensemble afin de ramener un état de paix intérieure permettant de traverser l’ensemble des perturbations que nous pourrions rencontrer sur notre chemin. Alors rejoignez-nous à cette Matinée Kundalini Yoga mars 2026 ! \n\n\n\n\n\n\n\n\n\nAccédez aux autres évènements proposés par l’association L’instant présent.
URL:https://www.lenectarduyoga.fr/event/matinee-kundalini-yoga-mars-2026/
LOCATION:76 avenue de Mazeau\, Corbiac\, 76 avenue de Mazeau\, Saint-médard-en-jalles\, 33160\, France
CATEGORIES:Yoga kundalini
ATTACH;FMTTYPE=image/jpeg:https://www.lenectarduyoga.fr/wp-content/uploads/2026/02/Matinee-Kundalini-Yoga.jpg
ORGANIZER;CN="Eric Rousteing":MAILTO:contact@lenectarduyoga.fr
END:VEVENT
END:VCALENDAR