BEGIN:VCALENDAR
VERSION:2.0
PRODID:-//l&#039;instant présent - ECPv6.15.11//NONSGML v1.0//EN
CALSCALE:GREGORIAN
METHOD:PUBLISH
X-WR-CALNAME:l&#039;instant présent
X-ORIGINAL-URL:https://www.lenectarduyoga.fr
X-WR-CALDESC:Évènements pour l&#039;instant présent
REFRESH-INTERVAL;VALUE=DURATION:PT1H
X-Robots-Tag:noindex
X-PUBLISHED-TTL:PT1H
BEGIN:VTIMEZONE
TZID:Europe/Paris
BEGIN:DAYLIGHT
TZOFFSETFROM:+0100
TZOFFSETTO:+0200
TZNAME:CEST
DTSTART:20240331T010000
END:DAYLIGHT
BEGIN:STANDARD
TZOFFSETFROM:+0200
TZOFFSETTO:+0100
TZNAME:CET
DTSTART:20241027T010000
END:STANDARD
BEGIN:DAYLIGHT
TZOFFSETFROM:+0100
TZOFFSETTO:+0200
TZNAME:CEST
DTSTART:20250330T010000
END:DAYLIGHT
BEGIN:STANDARD
TZOFFSETFROM:+0200
TZOFFSETTO:+0100
TZNAME:CET
DTSTART:20251026T010000
END:STANDARD
BEGIN:DAYLIGHT
TZOFFSETFROM:+0100
TZOFFSETTO:+0200
TZNAME:CEST
DTSTART:20260329T010000
END:DAYLIGHT
BEGIN:STANDARD
TZOFFSETFROM:+0200
TZOFFSETTO:+0100
TZNAME:CET
DTSTART:20261025T010000
END:STANDARD
END:VTIMEZONE
BEGIN:VEVENT
DTSTART;TZID=Europe/Paris:20251123T100000
DTEND;TZID=Europe/Paris:20251123T190000
DTSTAMP:20260421T053249
CREATED:20250920T071536Z
LAST-MODIFIED:20250920T072044Z
UID:612-1763892000-1763924400@www.lenectarduyoga.fr
SUMMARY:Respiration holotropique 11/2025
DESCRIPTION:Notre corps et notre esprit renferment de magnifiques ressources trop souvent inexploitées. Elles ont été bloquées\, cloisonnées par des carapaces\, des rigidités et des barrières que nous avons édifiées inconsciemment pour nous protéger\, ceci au détriment de la pleine expression de notre être. \n\n\n\n\nQuel que soit notre âge\, notre parcours de vie\, nous sommes tous concernés.  \n\n\n\nSi vous souhaitez changer les choses en vous (ressentis\, états d’être\, comportements)\, cette journée est une belle occasion. \n\n\n\nPar un travail du corps\, de l’esprit et avec le souffle comme fidèle allié\, cette journée vous donnera l’occasion de bouger vos structures physiques\, émotionnelles\, mentales et/ou psychiques. Une occasion de poser de la conscience sur ce qui vous habite et de débuter\, ou de poursuivre\, un chemin de transformation de ce qui n’a plus lieu d’être en vous. \n\n\n\nLieu : Grande Salle de Yoga – Le Club Bien-Être Gujan – 15 avenue de l’actipôle\, Gujan-Mestras.Apportez : 1 tapis\, une couverture et 2 coussins\, votre repas du midi (il n’y a pas de cuisine pour faire réchauffer)\, une gourde d’eau.Aucun pré requis n’est nécessaire pour participer à une telle journée. \n\n\n\nLes inscriptions se font par téléphone en contactant : Claire HEDOIN au 0679703205 ou Eric ROUSTEING au 0628373701 \n\n\n\nou via le formulaire sur le site : Le calendrier des activités | L’appel des Mots – Claire HEDOIN – La Teste-de-Buch \n\n\n\nProgramme de la journée :\n\n\n\nMatin : Eveil du corps et de l’esprit par la respiration en conscience : #kundaliniyoga #meditationactive #cercledeparoleAprès-midi : Exploration et transformation de soi en état non ordinaire de conscience : #respirationholotropique #rebirth \n\n\n\nTarif :\n\n\n\n\n\nPlus d’info par téléphone :
URL:https://www.lenectarduyoga.fr/event/respiration-holotropique-11-2025/
LOCATION:Le Club Bien-Être Gujan (Grande salle de yoga) – 15 avenue de l’actipôle\, Gujan-Mestras\, Le Club Bien-Être Gujan - 15 avenue de l'actipôle\,\, Gujan-Mestras\, 33199\, France
CATEGORIES:stage
ATTACH;FMTTYPE=image/jpeg:https://www.lenectarduyoga.fr/wp-content/uploads/2025/09/Respirationholotropique.jpg
END:VEVENT
END:VCALENDAR