BEGIN:VCALENDAR
VERSION:2.0
PRODID:-//l&#039;instant présent - ECPv6.15.11//NONSGML v1.0//EN
CALSCALE:GREGORIAN
METHOD:PUBLISH
X-WR-CALNAME:l&#039;instant présent
X-ORIGINAL-URL:https://www.lenectarduyoga.fr
X-WR-CALDESC:Évènements pour l&#039;instant présent
REFRESH-INTERVAL;VALUE=DURATION:PT1H
X-Robots-Tag:noindex
X-PUBLISHED-TTL:PT1H
BEGIN:VTIMEZONE
TZID:Europe/Paris
BEGIN:DAYLIGHT
TZOFFSETFROM:+0100
TZOFFSETTO:+0200
TZNAME:CEST
DTSTART:20240331T010000
END:DAYLIGHT
BEGIN:STANDARD
TZOFFSETFROM:+0200
TZOFFSETTO:+0100
TZNAME:CET
DTSTART:20241027T010000
END:STANDARD
BEGIN:DAYLIGHT
TZOFFSETFROM:+0100
TZOFFSETTO:+0200
TZNAME:CEST
DTSTART:20250330T010000
END:DAYLIGHT
BEGIN:STANDARD
TZOFFSETFROM:+0200
TZOFFSETTO:+0100
TZNAME:CET
DTSTART:20251026T010000
END:STANDARD
BEGIN:DAYLIGHT
TZOFFSETFROM:+0100
TZOFFSETTO:+0200
TZNAME:CEST
DTSTART:20260329T010000
END:DAYLIGHT
BEGIN:STANDARD
TZOFFSETFROM:+0200
TZOFFSETTO:+0100
TZNAME:CET
DTSTART:20261025T010000
END:STANDARD
END:VTIMEZONE
BEGIN:VEVENT
DTSTART;TZID=Europe/Paris:20251108T090000
DTEND;TZID=Europe/Paris:20251111T170000
DTSTAMP:20260421T053249
CREATED:20250907T173632Z
LAST-MODIFIED:20250908T075327Z
UID:592-1762592400-1762880400@www.lenectarduyoga.fr
SUMMARY:Stage Tantra Rencontre - Novembre 2025
DESCRIPTION:Rejoignez notre Stage Tantra Rencontre – Novembre 2025 pour transformer votre vie. 4 jours du 8 novembre au 11 novembre 2025 pour explorer votre histoire\, libérer les blocages énergétiques et émotionnels\, et découvrir votre essence véritable. Ce stage de Tantra vous invite à passer de l’ombre à la lumière\, de l’inconscient à la conscience\, pour guérir les blessures du cœur\, surmonter les peurs et retrouver l’amour pour soi\, les autres\, et la vie. Ressentez la plénitude d’être vivant. \n\n\n\nPourquoi un stage de Tantra rencontre ?\n\n\n\nNos stages de Tantra Rencontre vous offrent une opportunité unique de développer votre potentiel et de réaliser votre destinée. Sur quatre jours\, ce stage aide à : \n\n\n\n\nReconnecter avec votre force intérieure et votre envie de vivre\n\n\n\nComprendre et résoudre vos schémas répétitifs\n\n\n\nVous libérer de vos croyances limitantes\n\n\n\nApprendre à gérer les deuils et les séparations\n\n\n\nSortir des tendances dépressives\n\n\n\nRetrouver l’autonomie et la responsabilité face aux défis personnels\n\n\n\nRenforcer la confiance en soi et l’affirmation personnelle\n\n\n\n\nMéthodologies et pratiques incluses dans le stage : \n\n\n\n\nKundalini Yoga\n\n\n\nRespiration Holotropique\n\n\n\nPsycho généalogie et décodage biologique\n\n\n\nLibération émotionnelle et énergétique\n\n\n\nMises en situation\n\n\n\nMéditations dynamiques d’Osho\n\n\n\nCercles de parole\n\n\n\nKarma Yoga\n\n\n\nAteliers de Révélation de Soi\n\n\n\n\n🌸 Libérez votre potentiel et trouvez l’amour de soi ! 🌸 \n\n\n\nModalités d’inscription au Stage Tantra Rencontre – Novembre 2025 (du 8 mai au 11 novembre 2025) : \n\n\n\n\n\nNous croyons que l’aspect financier ne devrait pas être un frein à votre participation. Le prix du stage peut être ajusté selon votre situation. Contactez-nous pour en discuter !
URL:https://www.lenectarduyoga.fr/event/592/
LOCATION:Château Laroque\, 33890 JUILLAC\, Château Laroque\, JUILLAC\, FRANCE\, 33890
CATEGORIES:stage,Tantra Rencontre
ATTACH;FMTTYPE=image/png:https://www.lenectarduyoga.fr/wp-content/uploads/2025/09/Rretrouver-sa-joie-de-vivre.png
END:VEVENT
END:VCALENDAR