BEGIN:VCALENDAR
VERSION:2.0
PRODID:-//l&#039;instant présent - ECPv6.15.11//NONSGML v1.0//EN
CALSCALE:GREGORIAN
METHOD:PUBLISH
X-WR-CALNAME:l&#039;instant présent
X-ORIGINAL-URL:https://www.lenectarduyoga.fr
X-WR-CALDESC:Évènements pour l&#039;instant présent
REFRESH-INTERVAL;VALUE=DURATION:PT1H
X-Robots-Tag:noindex
X-PUBLISHED-TTL:PT1H
BEGIN:VTIMEZONE
TZID:Europe/Paris
BEGIN:DAYLIGHT
TZOFFSETFROM:+0100
TZOFFSETTO:+0200
TZNAME:CEST
DTSTART:20220327T010000
END:DAYLIGHT
BEGIN:STANDARD
TZOFFSETFROM:+0200
TZOFFSETTO:+0100
TZNAME:CET
DTSTART:20221030T010000
END:STANDARD
BEGIN:DAYLIGHT
TZOFFSETFROM:+0100
TZOFFSETTO:+0200
TZNAME:CEST
DTSTART:20230326T010000
END:DAYLIGHT
BEGIN:STANDARD
TZOFFSETFROM:+0200
TZOFFSETTO:+0100
TZNAME:CET
DTSTART:20231029T010000
END:STANDARD
BEGIN:DAYLIGHT
TZOFFSETFROM:+0100
TZOFFSETTO:+0200
TZNAME:CEST
DTSTART:20240331T010000
END:DAYLIGHT
BEGIN:STANDARD
TZOFFSETFROM:+0200
TZOFFSETTO:+0100
TZNAME:CET
DTSTART:20241027T010000
END:STANDARD
END:VTIMEZONE
BEGIN:VEVENT
DTSTART;TZID=Europe/Paris:20231110T093000
DTEND;TZID=Europe/Paris:20231112T180000
DTSTAMP:20260424T005123
CREATED:20231008T181517Z
LAST-MODIFIED:20231008T181518Z
UID:430-1699608600-1699812000@www.lenectarduyoga.fr
SUMMARY:TANTRA RENCONTRE 10 novembre 2023
DESCRIPTION:VOIE DE LIBÉRATION ET D’ÉPANOUISSEMENT\n\n\n\nTantra Rencontre 10 novembre 2023 : Donnez du sens à votre vécu et vos fonctionnements par l’analyse et la compréhension de votre histoire\, libérez l’énergie bloquée et les émotions engrammées dans la mémoire du corps ainsi que les croyances limitatives développées. Vivez votre vérité quelle qu’elle soit et incarnez votre nature profonde\, son essence\, avec confiance. \n\n\n\nPassez de l’ombre à la lumière\, de l’inconscient à la conscience\, le but étant de guérir vos blessures du cœur et de vous libérer de vos peurs\, du jugement intérieur\, du non-agir pour retrouver l’amour pour soi\, pour les autres\, pour la vie … et se sentir pleinement vivant\, acteur de sa propre vie. \n\n\n\nLes stages Tantra Rencontre se proposent de vous aider à développer votre potentiel et à réaliser votre destinée. Ils aident entre-autre à résoudre des difficultés spécifiques d’ordre psychologiques\, personnelles ou relationnelles. Ces stages sont organisés dans l’Ecole du Tantra à Juillac.  \n\n\n\nILS PERMETTENT\,\n\n\n\n\nla compréhension de situations qui se répètent\,\n\n\n\nde se défaire de croyances limitatives\,\n\n\n\nd’apprendre à gérer un deuil ou une séparation (actuel ou passé)\,\n\n\n\nde se libérer de tendance dépressive…\n\n\n\nMais également\,\n\n\n\natteindre une autonomie\,\n\n\n\nfaire face à ses difficultés avec responsabilité\,\n\n\n\nreprendre confiance en soi\,\n\n\n\ncontacter sa force intérieure\, sa volonté à agir et sa capacité à s’affirmer.\n\n\n\n\nLe but de cette démarche est de permettre de réaliser et d’atteindre ses objectifs de vie. Le travail proposé aide à retrouver la joie et l’envie de vivre. Il ouvre le chemin pour approfondir sa propre quête intérieure. Découvrir ce qu’est la Thérapie Holistique. \n\n\n\nPrix : 405 Euros
URL:https://www.lenectarduyoga.fr/event/tantra-rencontre-10-novembre-2023/
ORGANIZER;CN="Eric Rousteing":MAILTO:contact@lenectarduyoga.fr
END:VEVENT
END:VCALENDAR